BEGIN:VCALENDAR
VERSION:2.0
PRODID:-//Toronto Buddhist Church - ECPv6.15.19//NONSGML v1.0//EN
CALSCALE:GREGORIAN
METHOD:PUBLISH
X-ORIGINAL-URL:https://tbc.on.ca
X-WR-CALDESC:Events for Toronto Buddhist Church
REFRESH-INTERVAL;VALUE=DURATION:PT1H
X-Robots-Tag:noindex
X-PUBLISHED-TTL:PT1H
BEGIN:VTIMEZONE
TZID:America/Toronto
BEGIN:DAYLIGHT
TZOFFSETFROM:-0500
TZOFFSETTO:-0400
TZNAME:EDT
DTSTART:20230312T070000
END:DAYLIGHT
BEGIN:STANDARD
TZOFFSETFROM:-0400
TZOFFSETTO:-0500
TZNAME:EST
DTSTART:20231105T060000
END:STANDARD
BEGIN:DAYLIGHT
TZOFFSETFROM:-0500
TZOFFSETTO:-0400
TZNAME:EDT
DTSTART:20240310T070000
END:DAYLIGHT
BEGIN:STANDARD
TZOFFSETFROM:-0400
TZOFFSETTO:-0500
TZNAME:EST
DTSTART:20241103T060000
END:STANDARD
BEGIN:DAYLIGHT
TZOFFSETFROM:-0500
TZOFFSETTO:-0400
TZNAME:EDT
DTSTART:20250309T070000
END:DAYLIGHT
BEGIN:STANDARD
TZOFFSETFROM:-0400
TZOFFSETTO:-0500
TZNAME:EST
DTSTART:20251102T060000
END:STANDARD
END:VTIMEZONE
BEGIN:VEVENT
DTSTART;TZID=America/Toronto:20240628T120000
DTEND;TZID=America/Toronto:20240630T150000
DTSTAMP:20260424T182734
CREATED:20240528T063851Z
LAST-MODIFIED:20240528T063851Z
UID:4936-1719576000-1719759600@tbc.on.ca
SUMMARY:TBC @ Toronto Pride
DESCRIPTION:After a 10-year long hiatus\, the Toronto Buddhist Church will once again join in this year’s Pride festivities in June! \nTBC will participate:\n– With a booth at the street fair from Friday to Sunday\n– In the parade on Sunday \nVolunteer opportunities will be available at the booth. All are welcome to walk in the parade. For more information\, please contact John Sheldon—kate.john@sympatico.ca.
URL:https://tbc.on.ca/calendar/tbc-toronto-pride/
END:VEVENT
END:VCALENDAR