BEGIN:VCALENDAR
VERSION:2.0
PRODID:-//Toronto Buddhist Church - ECPv6.15.19//NONSGML v1.0//EN
CALSCALE:GREGORIAN
METHOD:PUBLISH
X-ORIGINAL-URL:https://tbc.on.ca
X-WR-CALDESC:Events for Toronto Buddhist Church
REFRESH-INTERVAL;VALUE=DURATION:PT1H
X-Robots-Tag:noindex
X-PUBLISHED-TTL:PT1H
BEGIN:VTIMEZONE
TZID:America/Toronto
BEGIN:DAYLIGHT
TZOFFSETFROM:-0500
TZOFFSETTO:-0400
TZNAME:EDT
DTSTART:20230312T070000
END:DAYLIGHT
BEGIN:STANDARD
TZOFFSETFROM:-0400
TZOFFSETTO:-0500
TZNAME:EST
DTSTART:20231105T060000
END:STANDARD
BEGIN:DAYLIGHT
TZOFFSETFROM:-0500
TZOFFSETTO:-0400
TZNAME:EDT
DTSTART:20240310T070000
END:DAYLIGHT
BEGIN:STANDARD
TZOFFSETFROM:-0400
TZOFFSETTO:-0500
TZNAME:EST
DTSTART:20241103T060000
END:STANDARD
BEGIN:DAYLIGHT
TZOFFSETFROM:-0500
TZOFFSETTO:-0400
TZNAME:EDT
DTSTART:20250309T070000
END:DAYLIGHT
BEGIN:STANDARD
TZOFFSETFROM:-0400
TZOFFSETTO:-0500
TZNAME:EST
DTSTART:20251102T060000
END:STANDARD
END:VTIMEZONE
BEGIN:VEVENT
DTSTART;TZID=America/Toronto:20240810T100000
DTEND;TZID=America/Toronto:20240810T170000
DTSTAMP:20260424T155235
CREATED:20240613T174344Z
LAST-MODIFIED:20240717T044401Z
UID:4990-1723284000-1723309200@tbc.on.ca
SUMMARY:Temple Picnic at Lumbini in Wasaga Beach
DESCRIPTION:Please join us at Lumbini on Saturday\, August 10th between 10am – 5pm for TBC’s Annual Picnic at Lumbini Cabins. Come for races\, games\, suikawari (smashing watermelons)\, hot dogs and hamburgers. As always please bring folding chairs and your contributions to the communal table. Cabin 3 is available for changing into swimsuits. \nLumbini is a TBC property located near Wasaga Beach at 68 MARY STREET\, WASAGA BEACH. Please let the office know if you are thinking of attending. We need a rough estimate of how much preparation we need. Phone: 416- 534 4302 Email: tbc@tbc.on.ca \nLink to location on Google Maps https://maps.app.goo.gl/YADdPAQYCxpUc8kF7
URL:https://tbc.on.ca/calendar/temple-picnic-at-lumbini-in-wasaga-beach/
END:VEVENT
END:VCALENDAR