BEGIN:VCALENDAR
VERSION:2.0
PRODID:-//Toronto Buddhist Church - ECPv6.15.19//NONSGML v1.0//EN
CALSCALE:GREGORIAN
METHOD:PUBLISH
X-ORIGINAL-URL:https://tbc.on.ca
X-WR-CALDESC:Events for Toronto Buddhist Church
REFRESH-INTERVAL;VALUE=DURATION:PT1H
X-Robots-Tag:noindex
X-PUBLISHED-TTL:PT1H
BEGIN:VTIMEZONE
TZID:America/Toronto
BEGIN:DAYLIGHT
TZOFFSETFROM:-0500
TZOFFSETTO:-0400
TZNAME:EDT
DTSTART:20240310T070000
END:DAYLIGHT
BEGIN:STANDARD
TZOFFSETFROM:-0400
TZOFFSETTO:-0500
TZNAME:EST
DTSTART:20241103T060000
END:STANDARD
BEGIN:DAYLIGHT
TZOFFSETFROM:-0500
TZOFFSETTO:-0400
TZNAME:EDT
DTSTART:20250309T070000
END:DAYLIGHT
BEGIN:STANDARD
TZOFFSETFROM:-0400
TZOFFSETTO:-0500
TZNAME:EST
DTSTART:20251102T060000
END:STANDARD
BEGIN:DAYLIGHT
TZOFFSETFROM:-0500
TZOFFSETTO:-0400
TZNAME:EDT
DTSTART:20260308T070000
END:DAYLIGHT
BEGIN:STANDARD
TZOFFSETFROM:-0400
TZOFFSETTO:-0500
TZNAME:EST
DTSTART:20261101T060000
END:STANDARD
END:VTIMEZONE
BEGIN:VEVENT
DTSTART;TZID=America/Toronto:20250126T103000
DTEND;TZID=America/Toronto:20250126T120000
DTSTAMP:20260424T141414
CREATED:20250112T073753Z
LAST-MODIFIED:20250112T073753Z
UID:5232-1737887400-1737892800@tbc.on.ca
SUMMARY:Kids Sangha & Dharma School – English
DESCRIPTION:The Kids Service begins each Sunday morning from 10:30-10:50 am. Please arrive a few minutes early to get settled. \nFollowing the service\, the children go downstairs with their teacher to participate in the classroom program. \nEveryone is welcome. We hope to see you each week! \nJanuary’s Theme: SHINRAN SHONIN’S MEMORIAL DAY – “HO-ONKO”. This special observance marked the death of Shinran Shonin\, the founder of Jodo Shinshu Buddhism.
URL:https://tbc.on.ca/calendar/kids-sangha-dharma-school-english-37/
END:VEVENT
BEGIN:VEVENT
DTSTART;TZID=America/Toronto:20250126T110000
DTEND;TZID=America/Toronto:20250126T120000
DTSTAMP:20260424T141414
CREATED:20250112T074301Z
LAST-MODIFIED:20250112T074301Z
UID:5240-1737889200-1737892800@tbc.on.ca
SUMMARY:Regular Service – In Person and Zoom – English
DESCRIPTION:If you are interested in joining the service virtually. Please email the TBC office (tbc@tbc.on.ca) for the service Zoom link.
URL:https://tbc.on.ca/calendar/regular-service-in-person-and-zoom-english-8/
END:VEVENT
END:VCALENDAR