BEGIN:VCALENDAR
VERSION:2.0
PRODID:-//Toronto Buddhist Church - ECPv6.15.19//NONSGML v1.0//EN
CALSCALE:GREGORIAN
METHOD:PUBLISH
X-ORIGINAL-URL:https://tbc.on.ca
X-WR-CALDESC:Events for Toronto Buddhist Church
REFRESH-INTERVAL;VALUE=DURATION:PT1H
X-Robots-Tag:noindex
X-PUBLISHED-TTL:PT1H
BEGIN:VTIMEZONE
TZID:America/Toronto
BEGIN:DAYLIGHT
TZOFFSETFROM:-0500
TZOFFSETTO:-0400
TZNAME:EDT
DTSTART:20240310T070000
END:DAYLIGHT
BEGIN:STANDARD
TZOFFSETFROM:-0400
TZOFFSETTO:-0500
TZNAME:EST
DTSTART:20241103T060000
END:STANDARD
BEGIN:DAYLIGHT
TZOFFSETFROM:-0500
TZOFFSETTO:-0400
TZNAME:EDT
DTSTART:20250309T070000
END:DAYLIGHT
BEGIN:STANDARD
TZOFFSETFROM:-0400
TZOFFSETTO:-0500
TZNAME:EST
DTSTART:20251102T060000
END:STANDARD
BEGIN:DAYLIGHT
TZOFFSETFROM:-0500
TZOFFSETTO:-0400
TZNAME:EDT
DTSTART:20260308T070000
END:DAYLIGHT
BEGIN:STANDARD
TZOFFSETFROM:-0400
TZOFFSETTO:-0500
TZNAME:EST
DTSTART:20261101T060000
END:STANDARD
END:VTIMEZONE
BEGIN:VEVENT
DTSTART;TZID=America/Toronto:20250202T103000
DTEND;TZID=America/Toronto:20250202T120000
DTSTAMP:20260424T141407
CREATED:20250112T073904Z
LAST-MODIFIED:20250112T073957Z
UID:5233-1738492200-1738497600@tbc.on.ca
SUMMARY:Kids Sangha & Dharma School – English
DESCRIPTION:The Kids Service begins each Sunday morning from 10:30-10:50 am. Please arrive a few minutes early to get settled. \nFollowing the service\, the children go downstairs with their teacher to participate in the classroom program. \nEveryone is welcome. We hope to see you each week! \nFebruary’s Theme: PEACE….NIRVANA DAY……BUDDHA’S PARINIRVANA\nSakyamuni awakened to Truth and became a Buddha at the age of 35. After sharing the Dharma for the next forty five years\, he attained perfect enlightenment or “parinirvana”\, with his death at 80. Nirvana day is one of the three observance’s commemorating Sakyamuni\, the other two being his birthday on April 8 and his awakening on December 8.
URL:https://tbc.on.ca/calendar/kids-sangha-dharma-school-english-38/
END:VEVENT
BEGIN:VEVENT
DTSTART;TZID=America/Toronto:20250202T110000
DTEND;TZID=America/Toronto:20250202T120000
DTSTAMP:20260424T141407
CREATED:20250112T075118Z
LAST-MODIFIED:20250112T075118Z
UID:5244-1738494000-1738497600@tbc.on.ca
SUMMARY:Shotsuki Service – In Person and Zoom – English
DESCRIPTION:If you are interested in joining the service virtually. Please email the TBC office (tbc@tbc.on.ca) for the service Zoom link.
URL:https://tbc.on.ca/calendar/shotsuki-service-in-person-and-zoom-english-3/
END:VEVENT
BEGIN:VEVENT
DTSTART;TZID=America/Toronto:20250202T110000
DTEND;TZID=America/Toronto:20250202T120000
DTSTAMP:20260424T141407
CREATED:20250112T075142Z
LAST-MODIFIED:20250112T075142Z
UID:5245-1738494000-1738497600@tbc.on.ca
SUMMARY:Shotsuki Service – In Person and Zoom – Japanese
DESCRIPTION:If you are interested in joining the service virtually. Please email the TBC office (tbc@tbc.on.ca) for the service Zoom link.
URL:https://tbc.on.ca/calendar/shotsuki-service-in-person-and-zoom-japanese-4/
END:VEVENT
END:VCALENDAR