BEGIN:VCALENDAR
VERSION:2.0
PRODID:-//Toronto Buddhist Church - ECPv6.15.19//NONSGML v1.0//EN
CALSCALE:GREGORIAN
METHOD:PUBLISH
X-ORIGINAL-URL:https://tbc.on.ca
X-WR-CALDESC:Events for Toronto Buddhist Church
REFRESH-INTERVAL;VALUE=DURATION:PT1H
X-Robots-Tag:noindex
X-PUBLISHED-TTL:PT1H
BEGIN:VTIMEZONE
TZID:America/Toronto
BEGIN:DAYLIGHT
TZOFFSETFROM:-0500
TZOFFSETTO:-0400
TZNAME:EDT
DTSTART:20230312T070000
END:DAYLIGHT
BEGIN:STANDARD
TZOFFSETFROM:-0400
TZOFFSETTO:-0500
TZNAME:EST
DTSTART:20231105T060000
END:STANDARD
BEGIN:DAYLIGHT
TZOFFSETFROM:-0500
TZOFFSETTO:-0400
TZNAME:EDT
DTSTART:20240310T070000
END:DAYLIGHT
BEGIN:STANDARD
TZOFFSETFROM:-0400
TZOFFSETTO:-0500
TZNAME:EST
DTSTART:20241103T060000
END:STANDARD
BEGIN:DAYLIGHT
TZOFFSETFROM:-0500
TZOFFSETTO:-0400
TZNAME:EDT
DTSTART:20250309T070000
END:DAYLIGHT
BEGIN:STANDARD
TZOFFSETFROM:-0400
TZOFFSETTO:-0500
TZNAME:EST
DTSTART:20251102T060000
END:STANDARD
END:VTIMEZONE
BEGIN:VEVENT
DTSTART;TZID=America/Toronto:20240707T110000
DTEND;TZID=America/Toronto:20240707T120000
DTSTAMP:20260424T155236
CREATED:20240613T171929Z
LAST-MODIFIED:20240613T173134Z
UID:4983-1720350000-1720353600@tbc.on.ca
SUMMARY:Shotsuki Service  – In Person and Zoom – English
DESCRIPTION:If you are interested in joining the service virtually. Please email the TBC office (tbc@tbc.on.ca) for the service Zoom link.
URL:https://tbc.on.ca/calendar/shotsuki-service-in-person-and-zoom-bilingual-en-jp-2/
END:VEVENT
BEGIN:VEVENT
DTSTART;TZID=America/Toronto:20240707T130000
DTEND;TZID=America/Toronto:20240707T140000
DTSTAMP:20260424T155236
CREATED:20240613T173211Z
LAST-MODIFIED:20240613T173211Z
UID:4987-1720357200-1720360800@tbc.on.ca
SUMMARY:Shotsuki Service  – In Person and Zoom – Japanese
DESCRIPTION:If you are interested in joining the service virtually. Please email the TBC office (tbc@tbc.on.ca) for the service Zoom link.
URL:https://tbc.on.ca/calendar/shotsuki-service-in-person-and-zoom-japanese/
END:VEVENT
BEGIN:VEVENT
DTSTART;TZID=America/Toronto:20240713T093000
DTEND;TZID=America/Toronto:20240713T130000
DTSTAMP:20260424T155236
CREATED:20240613T172400Z
LAST-MODIFIED:20240613T185926Z
UID:4984-1720863000-1720875600@tbc.on.ca
SUMMARY:Hakamairi (at cemeteries across the GTA)
DESCRIPTION:Services will be held across a variety of cemeteries throughout the morning. For a full schedule of cemetery locations and timing\, please click here. \n 
URL:https://tbc.on.ca/calendar/hakamairi-at-cemeteries-across-the-gta/
END:VEVENT
BEGIN:VEVENT
DTSTART;TZID=America/Toronto:20240714T090000
DTEND;TZID=America/Toronto:20240714T100000
DTSTAMP:20260424T155236
CREATED:20240613T172557Z
LAST-MODIFIED:20240613T172557Z
UID:4985-1720947600-1720951200@tbc.on.ca
SUMMARY:Hatsubon – In Person and Zoom – Bilingual (EN & JP)
DESCRIPTION:If you are interested in joining the service virtually. Please email the TBC office (tbc@tbc.on.ca) for the service Zoom link.
URL:https://tbc.on.ca/calendar/hatsubon-in-person-and-zoom-bilingual-en-jp/
END:VEVENT
BEGIN:VEVENT
DTSTART;TZID=America/Toronto:20240714T110000
DTEND;TZID=America/Toronto:20240714T120000
DTSTAMP:20260424T155236
CREATED:20240613T172814Z
LAST-MODIFIED:20240613T174126Z
UID:4986-1720954800-1720958400@tbc.on.ca
SUMMARY:Obon Service with guest minister Rev. Grant Ikuta – In Person and Zoom – English
DESCRIPTION:If you are interested in joining the service virtually. Please email the TBC office (tbc@tbc.on.ca) for the service Zoom link.
URL:https://tbc.on.ca/calendar/obon-service-bilingual-en-jp/
END:VEVENT
BEGIN:VEVENT
DTSTART;TZID=America/Toronto:20240714T130000
DTEND;TZID=America/Toronto:20240714T140000
DTSTAMP:20260424T155236
CREATED:20240613T173506Z
LAST-MODIFIED:20240613T174122Z
UID:4989-1720962000-1720965600@tbc.on.ca
SUMMARY:Obon Service with guest minister Rev. Grant Ikuta – In Person and Zoom – Japanese
DESCRIPTION:If you are interested in joining the service virtually. Please email the TBC office (tbc@tbc.on.ca) for the service Zoom link.
URL:https://tbc.on.ca/calendar/obon-service-in-person-and-zoom-japanese/
END:VEVENT
BEGIN:VEVENT
DTSTART;TZID=America/Toronto:20240721T110000
DTEND;TZID=America/Toronto:20240721T120000
DTSTAMP:20260424T155236
CREATED:20240717T042911Z
LAST-MODIFIED:20240717T042911Z
UID:5025-1721559600-1721563200@tbc.on.ca
SUMMARY:Summer Service – In Person and Zoom – English
DESCRIPTION:If you are interested in joining the service virtually. Please email the TBC office (tbc@tbc.on.ca) for the service Zoom link.
URL:https://tbc.on.ca/calendar/summer-service-in-person-and-zoom-english/
END:VEVENT
BEGIN:VEVENT
DTSTART;TZID=America/Toronto:20240728T110000
DTEND;TZID=America/Toronto:20240728T120000
DTSTAMP:20260424T155236
CREATED:20240717T042936Z
LAST-MODIFIED:20240717T043441Z
UID:5026-1722164400-1722168000@tbc.on.ca
SUMMARY:Summer Service – In Person and Zoom – English
DESCRIPTION:If you are interested in joining the service virtually. Please email the TBC office (tbc@tbc.on.ca) for the service Zoom link.
URL:https://tbc.on.ca/calendar/summer-service-in-person-and-zoom-english-2/
END:VEVENT
END:VCALENDAR