BEGIN:VCALENDAR
VERSION:2.0
PRODID:-//Toronto Buddhist Church - ECPv6.15.19//NONSGML v1.0//EN
CALSCALE:GREGORIAN
METHOD:PUBLISH
X-WR-CALNAME:Toronto Buddhist Church
X-ORIGINAL-URL:https://tbc.on.ca
X-WR-CALDESC:Events for Toronto Buddhist Church
REFRESH-INTERVAL;VALUE=DURATION:PT1H
X-Robots-Tag:noindex
X-PUBLISHED-TTL:PT1H
BEGIN:VTIMEZONE
TZID:America/Toronto
BEGIN:DAYLIGHT
TZOFFSETFROM:-0500
TZOFFSETTO:-0400
TZNAME:EDT
DTSTART:20250309T070000
END:DAYLIGHT
BEGIN:STANDARD
TZOFFSETFROM:-0400
TZOFFSETTO:-0500
TZNAME:EST
DTSTART:20251102T060000
END:STANDARD
BEGIN:DAYLIGHT
TZOFFSETFROM:-0500
TZOFFSETTO:-0400
TZNAME:EDT
DTSTART:20260308T070000
END:DAYLIGHT
BEGIN:STANDARD
TZOFFSETFROM:-0400
TZOFFSETTO:-0500
TZNAME:EST
DTSTART:20261101T060000
END:STANDARD
BEGIN:DAYLIGHT
TZOFFSETFROM:-0500
TZOFFSETTO:-0400
TZNAME:EDT
DTSTART:20270314T070000
END:DAYLIGHT
BEGIN:STANDARD
TZOFFSETFROM:-0400
TZOFFSETTO:-0500
TZNAME:EST
DTSTART:20271107T060000
END:STANDARD
END:VTIMEZONE
BEGIN:VEVENT
DTSTART;VALUE=DATE:20260422
DTEND;VALUE=DATE:20260427
DTSTAMP:20260423T070944
CREATED:20260103T034851Z
LAST-MODIFIED:20260220T022439Z
UID:5826-1776816000-1777247999@tbc.on.ca
SUMMARY:JSBTC AGM (April 22-26)
DESCRIPTION:Details TBD.
URL:https://tbc.on.ca/calendar/jsbtc-agm/
END:VEVENT
BEGIN:VEVENT
DTSTART;TZID=America/Toronto:20260426T103000
DTEND;TZID=America/Toronto:20260426T110000
DTSTAMP:20260423T070944
CREATED:20251223T022002Z
LAST-MODIFIED:20260402T013552Z
UID:5802-1777199400-1777201200@tbc.on.ca
SUMMARY:Kids Gatha Singing (No Dharma School) - English
DESCRIPTION:The Kids Gatha Singing is held the fourth Sunday of each month from 10:30-11 am in the kids classroom downstairs. Please arrive a few minutes early to get settled. \nPlease note\, on the fourth Sundays of every month\, there is NO Dharma school after kids gatha singing. If your children come on these Sundays\, they can join us in the Hondo after the kids gatha singing to attend the family service from 11am – 12pm. \nEveryone is welcome. We hope to see you each week!
URL:https://tbc.on.ca/calendar/kids-sangha-only-no-dharma-school-english-2/
END:VEVENT
BEGIN:VEVENT
DTSTART;TZID=America/Toronto:20260426T110000
DTEND;TZID=America/Toronto:20260426T120000
DTSTAMP:20260423T070944
CREATED:20251222T033729Z
LAST-MODIFIED:20251222T034207Z
UID:5753-1777201200-1777204800@tbc.on.ca
SUMMARY:Regular Service – In Person and Zoom – English
DESCRIPTION:If you are interested in joining the service virtually. Please email the TBC office (tbc@tbc.on.ca) for the service Zoom link.
URL:https://tbc.on.ca/calendar/regular-service-in-person-and-zoom-english-48/
END:VEVENT
END:VCALENDAR